BEGIN:VCALENDAR
VERSION:2.0
PRODID:-//Cruzn Rides Group - ECPv6.15.13//NONSGML v1.0//EN
CALSCALE:GREGORIAN
METHOD:PUBLISH
X-ORIGINAL-URL:https://cruznrides.com
X-WR-CALDESC:Events for Cruzn Rides Group
REFRESH-INTERVAL;VALUE=DURATION:PT1H
X-Robots-Tag:noindex
X-PUBLISHED-TTL:PT1H
BEGIN:VTIMEZONE
TZID:Australia/Brisbane
BEGIN:STANDARD
TZOFFSETFROM:+1000
TZOFFSETTO:+1000
TZNAME:AEST
DTSTART:20240101T000000
END:STANDARD
END:VTIMEZONE
BEGIN:VEVENT
DTSTART;TZID=Australia/Brisbane:20250314T090000
DTEND;TZID=Australia/Brisbane:20250316T160000
DTSTAMP:20260420T040051
CREATED:20250315T010832Z
LAST-MODIFIED:20250315T010832Z
UID:162277-1741942800-1742140800@cruznrides.com
SUMMARY:Brisbane National 4x4 Outdoors Show | 4X4 Lifestyle Expos QLD
DESCRIPTION:GEAR UP FOR THE BRISBANE National 4×4 Outdoors Show! 3 massive days\, 100’s of brands\, 1000’s of products. 4X4 Lifestyle Expos QLD \n** Please check with event organisers for updates **\nhttps://www.facebook.com/events/1097684881799031/ \nThe ultimate one-stop fully loaded event for outdoor adventure enthusiasts is back! Get ready for a show that packs a punch\, we’re bringing together top brands\, must-have products\, big personalities\, and a mix of entertainment and education. \n#4×4 #4x4s #4wheeldrives #caravanexpo #lifestyleexpo #camping #caravanning #rvproducts #accessories #campingaccessories #madabouttouring #madabout4x4 #cruznrides #cruznridesgroup
URL:https://cruznrides.com/car-and-motorcycle-event/brisbane-national-4x4-outdoors-show-4x4-lifestyle-expos-qld/
LOCATION:Brisbane Showgrounds\, Brisbane Showgrounds
CATEGORIES:Caravan, Camping, 4wd and Touring Events
ATTACH;FMTTYPE=image/jpeg:https://cruznrides.com/wp-content/uploads/Brisbane-National-4x4-Outdoors-Show-4X4-Lifestyle-Expos-QLD.jpg
ORGANIZER;CN="noreply@facebookmail_com":MAILTO:noreply@facebookmail.com
END:VEVENT
BEGIN:VEVENT
DTSTART;TZID=Australia/Brisbane:20250314T090000
DTEND;TZID=Australia/Brisbane:20250316T160000
DTSTAMP:20260420T040051
CREATED:20250315T010832Z
LAST-MODIFIED:20250315T010832Z
UID:162277-1741942800-1742140800@cruznrides.com
SUMMARY:Brisbane National 4x4 Outdoors Show | 4X4 Lifestyle Expos QLD
DESCRIPTION:GEAR UP FOR THE BRISBANE National 4×4 Outdoors Show! 3 massive days\, 100’s of brands\, 1000’s of products. 4X4 Lifestyle Expos QLD \n** Please check with event organisers for updates **\nhttps://www.facebook.com/events/1097684881799031/ \nThe ultimate one-stop fully loaded event for outdoor adventure enthusiasts is back! Get ready for a show that packs a punch\, we’re bringing together top brands\, must-have products\, big personalities\, and a mix of entertainment and education. \n#4×4 #4x4s #4wheeldrives #caravanexpo #lifestyleexpo #camping #caravanning #rvproducts #accessories #campingaccessories #madabouttouring #madabout4x4 #cruznrides #cruznridesgroup
URL:https://cruznrides.com/car-and-motorcycle-event/brisbane-national-4x4-outdoors-show-4x4-lifestyle-expos-qld/
LOCATION:Brisbane Showgrounds\, Brisbane Showgrounds
CATEGORIES:Caravan, Camping, 4wd and Touring Events
ATTACH;FMTTYPE=image/jpeg:https://cruznrides.com/wp-content/uploads/Brisbane-National-4x4-Outdoors-Show-4X4-Lifestyle-Expos-QLD.jpg
ORGANIZER;CN="noreply@facebookmail_com":MAILTO:noreply@facebookmail.com
END:VEVENT
BEGIN:VEVENT
DTSTART;TZID=Australia/Brisbane:20250314T090000
DTEND;TZID=Australia/Brisbane:20250316T160000
DTSTAMP:20260420T040051
CREATED:20250315T010832Z
LAST-MODIFIED:20250315T010832Z
UID:162277-1741942800-1742140800@cruznrides.com
SUMMARY:Brisbane National 4x4 Outdoors Show | 4X4 Lifestyle Expos QLD
DESCRIPTION:GEAR UP FOR THE BRISBANE National 4×4 Outdoors Show! 3 massive days\, 100’s of brands\, 1000’s of products. 4X4 Lifestyle Expos QLD \n** Please check with event organisers for updates **\nhttps://www.facebook.com/events/1097684881799031/ \nThe ultimate one-stop fully loaded event for outdoor adventure enthusiasts is back! Get ready for a show that packs a punch\, we’re bringing together top brands\, must-have products\, big personalities\, and a mix of entertainment and education. \n#4×4 #4x4s #4wheeldrives #caravanexpo #lifestyleexpo #camping #caravanning #rvproducts #accessories #campingaccessories #madabouttouring #madabout4x4 #cruznrides #cruznridesgroup
URL:https://cruznrides.com/car-and-motorcycle-event/brisbane-national-4x4-outdoors-show-4x4-lifestyle-expos-qld/
LOCATION:Brisbane Showgrounds\, Brisbane Showgrounds
CATEGORIES:Caravan, Camping, 4wd and Touring Events
ATTACH;FMTTYPE=image/jpeg:https://cruznrides.com/wp-content/uploads/Brisbane-National-4x4-Outdoors-Show-4X4-Lifestyle-Expos-QLD.jpg
ORGANIZER;CN="noreply@facebookmail_com":MAILTO:noreply@facebookmail.com
END:VEVENT
BEGIN:VEVENT
DTSTART;TZID=Australia/Brisbane:20250214T090000
DTEND;TZID=Australia/Brisbane:20250216T160000
DTSTAMP:20260420T040051
CREATED:20250205T213004Z
LAST-MODIFIED:20250204T085943Z
UID:165794-1739523600-1739721600@cruznrides.com
SUMMARY:Hardkorr Campers at the 2025 Moreton Bay Expo QLD
DESCRIPTION:Hardkorr Campers is Heading to the 2025 Moreton Bay Expo! \n** Please check with event organisers for updates **\nhttps://www.facebook.com/events/9031369843566917/ \nWe’re bringing adventure to the 2025 Moreton Bay Expo\, showcasing some of our latest and greatest models\, including the all-new Xplorer 2.3F Family Camper – built for unforgettable outdoor experiences! \n📅 Join us from Friday\, 14th to Sunday\, 16th February\n📍 Find us at Site OS375 \nRedcliffe Showgrounds\, Scarborough Rd\, Redcliffe QLD 4020 \nGet ready for a ripper weekend filled with family fun! Secure your tickets online to save at the gate – we can’t wait to see you there \n#4×4 #4x4s #4wheeldrives #caravanexpo #lifestyleexpo #camping #caravanning #rvproducts #accessories #campingaccessories #madabouttouring #madabout4x4
URL:https://cruznrides.com/car-and-motorcycle-event/hardkorr-campers-at-the-2025-moreton-bay-expo-qld/
LOCATION:Moreton Bay Expo\, Moreton Bay Expo
CATEGORIES:Caravan, Camping, 4wd and Touring Events
ATTACH;FMTTYPE=image/jpeg:https://cruznrides.com/wp-content/uploads/Hardkorr-Campers-at-the-2025-Moreton-Bay-Expo-QLD.jpg
ORGANIZER;CN="Hardkorr Campers":MAILTO:noreply@facebookmail.com
END:VEVENT
BEGIN:VEVENT
DTSTART;TZID=Australia/Brisbane:20250214T083000
DTEND;TZID=Australia/Brisbane:20250216T160000
DTSTAMP:20260420T040051
CREATED:20250204T224600Z
LAST-MODIFIED:20250204T085327Z
UID:162276-1739521800-1739721600@cruznrides.com
SUMMARY:Moreton Bay Expo 2025 Redcliffe QLD
DESCRIPTION:Start 2025 with an epic adventure at the Moreton Bay Expo. Explore Caravans\, Campers\, 4×4\, Outdoor Gear\, and so much more! \n** Please check with event organisers for updates **\nhttps://www.facebook.com/events/1255799848931124/ \nJoin us at the Redcliffe Showgrounds\, February 14 – 16 for a 𝟯 𝗕𝗜𝗚 𝗗𝗔𝗬𝗦 packed with 𝗘𝗡𝗧𝗘𝗥𝗧𝗔𝗜𝗡𝗠𝗘𝗡𝗧 𝗙𝗢𝗥 𝗧𝗛𝗘 𝗪𝗛𝗢𝗟𝗘 𝗙𝗔𝗠𝗜𝗟𝗬. \nWith over 170 exhibitors\, this year’s Expo is 𝗕𝗜𝗚𝗚𝗘𝗥 𝗔𝗡𝗗 𝗕𝗘𝗧𝗧𝗘𝗥 𝗧𝗛𝗔𝗡 𝗘𝗩𝗘𝗥. \n𝗪𝗜𝗡 𝗕𝗜𝗚 𝗪𝗜𝗧𝗛 𝗣𝗥𝗜𝗭𝗘𝗦 like camping gear\, holiday packages\, and even $500 of fuel for your next adventure! \nThis is the ultimate event for outdoor lovers\, families\, and adventurers alike. \nThe Moreton Bay Outdoor Adventure Expo\n📅 14-16 Feb 2025\n📍\nRedcliffe Showgrounds \n𝗧𝗜𝗖𝗞𝗘𝗧𝗦 𝗢𝗡 𝗦𝗔𝗟𝗘 𝗡𝗢𝗪\n𝗕𝘂𝘆 𝗢𝗻𝗹𝗶𝗻𝗲 𝗘𝗮𝗿𝗹𝘆 & 𝗦𝗔𝗩𝗘 𝟮𝟬%\n👉 https://auev.net/4frVJ1W \n#4×4 #4x4s #4wheeldrives #caravanexpo #lifestyleexpo #camping #caravanning #rvproducts #accessories #campingaccessories #madabouttouring #madabout4x4
URL:https://cruznrides.com/car-and-motorcycle-event/moreton-bay-expo-2025-redcliffe-qld/
LOCATION:Redcliffe Showground\, Redcliffe QLD 4020\, Australia\, Redcliffe Showground\, Redcliffe QLD 4020\, Australia
CATEGORIES:Caravan, Camping, 4wd and Touring Events
ATTACH;FMTTYPE=image/jpeg:https://cruznrides.com/wp-content/uploads/Moreton-Bay-Expo-2025-Redcliffe-QLD.jpg
ORGANIZER;CN="Moreton Bay Expo":MAILTO:noreply@facebookmail.com
END:VEVENT
BEGIN:VEVENT
DTSTART;TZID=Australia/Brisbane:20250207T090000
DTEND;TZID=Australia/Brisbane:20250209T160000
DTSTAMP:20260420T040051
CREATED:20250203T233947Z
LAST-MODIFIED:20250203T235255Z
UID:165791-1738918800-1739116800@cruznrides.com
SUMMARY:Bushwakka Campers - Lets Go Gold Coast Caravan and Outdoor Expo
DESCRIPTION:Join Bushwakka Campers and Bushwakka Adventure Gear at the Let’s Go Gold Coast Caravan & Outdoor Expo! \n** Please check with event organisers for updates **\nhttps://www.facebook.com/events/1324519075411095/ \nWe’re bringing our latest range of 2025 campers and plenty adventure gear to match! \n🗓️ Friday\, 7th Feb – Sunday\, 9th Feb\n🏟️ People First Stadium\, Site 430 \nThe first event of the year where we will showcase our new 2025 camper models! Make it a fun family outing and get your tickets online or purchase them at the gate 🎟️ \n#4×4 #4x4s #4wheeldrives #caravanexpo #lifestyleexpo #camping #caravanning #rvproducts #accessories #campingaccessories #madabouttouring #madabout4x4 #cruznrides #cruznridesgroup
URL:https://cruznrides.com/car-and-motorcycle-event/bushwakka-campers-lets-go-gold-coast-caravan-and-outdoor-expo/
LOCATION:People First Stadium\, People First Stadium
CATEGORIES:Caravan, Camping, 4wd and Touring Events
ATTACH;FMTTYPE=image/jpeg:https://cruznrides.com/wp-content/uploads/Bushwakka-Campers-Lets-Go-Gold-Coast-Caravan-and-Outdoor-Expo.jpg
ORGANIZER;CN="Bushwakka Adventure Gear":MAILTO:noreply@facebookmail.com
END:VEVENT
BEGIN:VEVENT
DTSTART;TZID=Australia/Brisbane:20250131T080000
DTEND;TZID=Australia/Brisbane:20250202T150000
DTSTAMP:20260420T040051
CREATED:20250105T032400Z
LAST-MODIFIED:20250106T015157Z
UID:154836-1738310400-1738508400@cruznrides.com
SUMMARY:Caravan Camping Lifestyle Expo Newcastle NSW
DESCRIPTION:Come along to the Caravan and Camping Holiday Expo in Newcastle NSW and check out everything that’s new! \n\nAll of the latest RV products\nLoads of accessories\nGreat holiday destinations\nFree family entertainment\nAnd so much more\n\n** Please check with event organisers for updates ** \nFor more information visit www.caravanexpo.com \nhttps://www.facebook.com/events/369336735888981/ \n#caravanexpo #lifestyleexpo #camping #caravanning #rvproducts #accessories #campingaccessories #madabouttouring #madabout4x4 \n 
URL:https://cruznrides.com/car-and-motorcycle-event/newcastle-caravan-camping-lifestyle-expo-newcastle-nsw/
LOCATION:Newcastle Entertainment Centre\, Newcastle Entertainment Centre
CATEGORIES:Caravan, Camping, 4wd and Touring Events,Lifestyle Expos
ATTACH;FMTTYPE=image/jpeg:https://cruznrides.com/wp-content/uploads/Caravan-Camping-Lifestyle-Expo-Newcastle-NSW.jpg
ORGANIZER;CN="Caravan &amp%3B Camping NSW":MAILTO:noreply@facebookmail.com
END:VEVENT
END:VCALENDAR